BEGIN:VCALENDAR
VERSION:2.0
PRODID:-//wp-events-plugin.com//7.2.3.1//EN
BEGIN:VEVENT
UID:2206@5nr.org
DTSTART:20260329T180000Z
DTEND:20260329T210000Z
DTSTAMP:20260311T153545Z
URL:https://5nr.org/events/boat-crew-school-exercises-water-survival-exerc
 ise-1-of-3/
SUMMARY:BOAT CREW SCHOOL EXERCISES Water Survival Exercise (1 of 3)
DESCRIPTION:Water Survival Exercise (1 of 3)\n\nAll Division 17 members iss
 ued Anti-Exposure Coveralls or Dry Suits need to attend a water survival e
 xercise for in-water cold water training or testing.\n\nPennsbury High Sch
 ool\nMedill Bair Sports Complex - East Campus\n705 Hood Boulevard\, Fairle
 ss Hills\, PA 19030
CATEGORIES:Training
LOCATION:Pennsbury High School\, 705 Hood Boulevard\, Fairless Hills\, PA\,
  19030\, United States
X-APPLE-STRUCTURED-LOCATION;VALUE=URI;X-ADDRESS=705 Hood Boulevard\, Fairle
 ss Hills\, PA\, 19030\, United States;X-APPLE-RADIUS=100;X-TITLE=Pennsbury
  High School:geo:0,0
END:VEVENT
END:VCALENDAR