BEGIN:VCALENDAR
VERSION:2.0
PRODID:-//wp-events-plugin.com//7.2.3.1//EN
BEGIN:VEVENT
UID:1553@5nr.org
DTSTART:20230922T050000Z
DTEND:20230924T050000Z
DTSTAMP:20230822T173234Z
URL:https://5nr.org/events/dtrain-fall-2023/
SUMMARY:DTRAIN Fall 2023
DESCRIPTION:
LOCATION:Lancaster Wyndom Resort\, 2300 W Lincoln Way\, lancaster\, pa\, 17
 602\, United States
X-APPLE-STRUCTURED-LOCATION;VALUE=URI;X-ADDRESS=2300 W Lincoln Way\, lancas
 ter\, pa\, 17602\, United States;X-APPLE-RADIUS=100;X-TITLE=Lancaster Wynd
 om Resort:geo:0,0
END:VEVENT
END:VCALENDAR