BEGIN:VCALENDAR
VERSION:2.0
PRODID:-//wp-events-plugin.com//7.2.3.1//EN
BEGIN:VEVENT
UID:37@5nr.org
DTSTART:20220905T230000Z
DTEND:20220906T030000Z
DTSTAMP:20220202T234145Z
URL:https://5nr.org/events/excom-meeting-2022-09-05/
SUMMARY:EXCOM Meeting
DESCRIPTION:This meeting may be held at DTRAIN on the 9th\,
END:VEVENT
END:VCALENDAR