BEGIN:VCALENDAR
VERSION:2.0
PRODID:-//wp-events-plugin.com//7.2.3.1//EN
BEGIN:VEVENT
UID:116@5nr.org
DTSTART:20230222T000000Z
DTEND:20230222T010000Z
DTSTAMP:20220117T202359Z
URL:https://5nr.org/events/southeast-pa-division-04-2023-02-21/
SUMMARY:Southeast PA Division 04
DESCRIPTION:
END:VEVENT
END:VCALENDAR