BEGIN:VCALENDAR
VERSION:2.0
PRODID:-//wp-events-plugin.com//7.2.3.1//EN
BEGIN:VEVENT
UID:2115@5nr.org
DTSTART:20260425T050000Z
DTEND:20260425T050000Z
DTSTAMP:20260326T022205Z
URL:https://5nr.org/events/western-area-training-day/
SUMMARY:Western Area Training Day
DESCRIPTION:Contact: Walt Conway - D-Capt West\nWcaclu@verizon.net
CATEGORIES:Training
LOCATION:Reading Flotilla Training Base\, 2058 River Road\, Reading\, PA\, 
 19605\, 
X-APPLE-STRUCTURED-LOCATION;VALUE=URI;X-ADDRESS=2058 River Road\, Reading\,
  PA\, 19605\, ;X-APPLE-RADIUS=100;X-TITLE=Reading Flotilla Training Base:g
 eo:0,0
END:VEVENT
END:VCALENDAR